BEGIN:VCALENDAR
VERSION:2.0
PRODID:-//wp-events-plugin.com//6.6.3//EN
TZID:Europe/Berlin
X-WR-TIMEZONE:Europe/Berlin
BEGIN:VEVENT
UID:22@eisenbahnmuseum-neustadt.de
DTSTART;TZID=Europe/Berlin:20251003T110000
DTEND;TZID=Europe/Berlin:20251003T170000
DTSTAMP:20251001T200520Z
URL:https://eisenbahnmuseum-neustadt.de/events/kinderfest-2025/
SUMMARY:Kinderfest 2025
DESCRIPTION:Kinderfest am 03.10.2025\n\n&nbsp\;\n\nAuch dieses Jahr lädt d
 as Eisenbahnmuseum wieder zum beliebten Kinderfest mit vielen Attraktionen
  ein. Ein besonderer Höhepunkt sind die Führerstandmitfahrten auf einer 
 Diesellok und Fahrten mit der VW-Bus-Draisine im Museumsgelände. Im Museu
 m gibt es viele Dampf-\, Diesel- und Elektroloks und Triebwagen\, die auch
  von innen besichtigt werden dürfen. Eine Dampflok ist angefeuert und ste
 ht unter Dampf. Auch sie darf im Führerstand besichtigt werden.&nbsp\;\nF
 ür die „kleineren“ Kinder gibt es eine Spielecke mit einer Holzeisenb
 ahn sowie eine Bastelecke für Modellbahnhäuser. Die „größeren“ Kin
 der interessieren sich sicherlich mehr für die große Spur 1-Modellbahn s
 owie die Ausstellung von Modellbahnen in verschiedenen Spurweiten und hist
 orische Modelle.\n\nAuch für das leibliche Wohl wird gesorgt an einem Gri
 ll- und Getränkestand. Kaffee und Kuchen werden im Café im Elektrotriebw
 agen ET 11 serviert\, oder man besucht den Waffelstand. Wer möchte kann a
 uch kleine Souvenirs im Shop\nkaufen.\n\nDas Kinderfest findet statt am 3.
  Oktober 2025 vom 11.00 – 17.00 Uhr\nEingang: Über die Treppe an der Sc
 hillerstr. 3 oder ebenerdig direkt vom Bahnsteig 5 Neustadt Hbf\n\nEintrit
 t:\nKinder bis 14 Jahre frei\nErwachsene EUR 5\,00
ATTACH;FMTTYPE=image/jpeg:https://eisenbahnmuseum-neustadt.de/wp-content/u
 ploads/2024/10/IMG_20241003_122620-scaled.jpg
END:VEVENT
BEGIN:VTIMEZONE
TZID:Europe/Berlin
X-LIC-LOCATION:Europe/Berlin
BEGIN:DAYLIGHT
DTSTART:20250330T030000
TZOFFSETFROM:+0100
TZOFFSETTO:+0200
TZNAME:CEST
END:DAYLIGHT
END:VTIMEZONE
END:VCALENDAR