BEGIN:VCALENDAR
VERSION:2.0
PRODID:-//wp-events-plugin.com//6.6.3//EN
TZID:Europe/Berlin
X-WR-TIMEZONE:Europe/Berlin
BEGIN:VEVENT
UID:34@eisenbahnmuseum-neustadt.de
DTSTART;TZID=Europe/Berlin;VALUE=DATE:20260525
DTEND;TZID=Europe/Berlin;VALUE=DATE:20260526
DTSTAMP:20260402T142603Z
URL:https://eisenbahnmuseum-neustadt.de/events/dampfsonderfahrt-von-neusta
 dt-weinstr-hbf-ueber-die-alsenzbahn-nach-bingen-rhein-hbf/
SUMMARY:Dampfsonderfahrt von Neustadt (Weinstr) Hbf über die Alsenzbahn na
 ch Bingen (Rhein) Hbf.
DESCRIPTION:\n 	 Mai (Pfingstmontag)\n\nDampfzug von Neustadt (Weinstr) Hbf
  über die Alsenzbahn und entlang der Nahe nach Bingen (Rhein) Hbf.\n\n\n\
 nFahrpreise:\nErwachsene&nbsp\;&nbsp\;&nbsp\;&nbsp\;&nbsp\;&nbsp\;&nbsp\;&
 nbsp\;&nbsp\;&nbsp\;&nbsp\;&nbsp\;&nbsp\;&nbsp\;&nbsp\;&nbsp\;&nbsp\;&nbsp
 \;&nbsp\;&nbsp\;&nbsp\;&nbsp\;&nbsp\;&nbsp\; 65\,- EUR\nKinder (4-15 Jahre
 )&nbsp\;&nbsp\;&nbsp\;&nbsp\;&nbsp\;&nbsp\;&nbsp\;&nbsp\;&nbsp\;&nbsp\;&nb
 sp\; 35\,- EUR\n\nIn Bingen sechs Stunden Aufenthalt mit der Möglichkeit 
 für vielfältige Unternehmungen:\n\nFahrt mit einem Oldtimerbus aus den 1
 950er Jahren von Bingen (Rhein) Hbf an der Loreley vorbei nach St. Goar un
 d zurück.\nFahrpreis 30\,- EUR\n\nRundfahrt mit Schiff und Seilbahn Binge
 n – Rüdesheim – Niederwald-Denkmal – Assmannshausen – Burg Rheins
 tein – Bingen mit dem Ringticket\nhttps://www.bingen-ruedesheimer.de/lin
 ienfahrten/linie/ringticket\n\n„Bacchus“-Schiffstour auf dem Rhein von
  Bingen nach Bacharach\nhttps://www.bingen-ruedesheimer.de/linienfahrten/l
 inie/bacchusfahrt\n\nStadtführung in Bingen oder Rüdesheim:\nhttps://www
 .dein-bingen.de/bingen/stadtfuehrungen/\nhttps://www.ruedesheim.de/fuehrun
 gen#\n\nOder einfach nur rund um Bingen wandern\nhttps://www.komoot.com/de
 -de/guide/3051/wandern-rund-um-bingen-am-rhein\noder nach einem Stadtbumme
 l an der schönen Rheinpromenade mit Blick auf Rüdesheim und das Niederwa
 ld-Denkmal essen gehen.\n\nDie Buchung ist ab dem 01.04.2026 möglich.\n\n
 Bitte beachten Sie\, dass alle Fahrten eine Mindestteilnehmerzahl von 150 
 Personen voraussetzen. Ihre Buchung wird daher erst verbindlich\, sobald d
 iese Teilnehmerzahl erreicht ist. Im Anschluss erhalten Sie dann auch die 
 entsprechenden Rechnungen.\n\nZur Buchung hier klicken:\n\n[maxbutton id="
 12"] \n\n\n\n
END:VEVENT
BEGIN:VTIMEZONE
TZID:Europe/Berlin
X-LIC-LOCATION:Europe/Berlin
BEGIN:DAYLIGHT
DTSTART:20260329T030000
TZOFFSETFROM:+0100
TZOFFSETTO:+0200
TZNAME:CEST
END:DAYLIGHT
END:VTIMEZONE
END:VCALENDAR